BEGIN:VCALENDAR
VERSION:2.0
PRODID:-//Szerencs Város honlapja - ECPv6.15.17.1//NONSGML v1.0//EN
CALSCALE:GREGORIAN
METHOD:PUBLISH
X-WR-CALNAME:Szerencs Város honlapja
X-ORIGINAL-URL:https://szerencs.hu
X-WR-CALDESC:Események Szerencs Város honlapja
REFRESH-INTERVAL;VALUE=DURATION:PT1H
X-Robots-Tag:noindex
X-PUBLISHED-TTL:PT1H
BEGIN:VTIMEZONE
TZID:Europe/Helsinki
BEGIN:DAYLIGHT
TZOFFSETFROM:+0200
TZOFFSETTO:+0300
TZNAME:EEST
DTSTART:20250330T010000
END:DAYLIGHT
BEGIN:STANDARD
TZOFFSETFROM:+0300
TZOFFSETTO:+0200
TZNAME:EET
DTSTART:20251026T010000
END:STANDARD
BEGIN:DAYLIGHT
TZOFFSETFROM:+0200
TZOFFSETTO:+0300
TZNAME:EEST
DTSTART:20260329T010000
END:DAYLIGHT
BEGIN:STANDARD
TZOFFSETFROM:+0300
TZOFFSETTO:+0200
TZNAME:EET
DTSTART:20261025T010000
END:STANDARD
BEGIN:DAYLIGHT
TZOFFSETFROM:+0200
TZOFFSETTO:+0300
TZNAME:EEST
DTSTART:20270328T010000
END:DAYLIGHT
BEGIN:STANDARD
TZOFFSETFROM:+0300
TZOFFSETTO:+0200
TZNAME:EET
DTSTART:20271031T010000
END:STANDARD
END:VTIMEZONE
BEGIN:VEVENT
DTSTART;TZID=Europe/Helsinki:20260301T130000
DTEND;TZID=Europe/Helsinki:20260301T210000
DTSTAMP:20260423T111719
CREATED:20260226T074024Z
LAST-MODIFIED:20260226T074140Z
UID:3605-1772370000-1772398800@szerencs.hu
SUMMARY:Koribuli
DESCRIPTION:2026. március 1. Szerencs\, Műjégpálya\nProgram:\n13:00-15:00: MiniDISCO\n15:00-16:00: Ajégpálya nem üzemel\n16:00-16:30: Jégshow\n16:30-19:30: DJ Whiteboy\n19:00-20:00: Ajégpálya nem üzemel\n20:00-21:00: Animal Cannibals koncert\nNapközben 13:00-16:00 között kézműves foglalkozásokkal várjuk vendégeinket.
URL:https://szerencs.hu/esemenyek/koribuli/
CATEGORIES:Városi rendezvény
ATTACH;FMTTYPE=image/jpeg:https://szerencs.hu/wp-content/uploads/2026/02/koribuli_banner.jpg
END:VEVENT
BEGIN:VEVENT
DTSTART;TZID=Europe/Helsinki:20260302T170000
DTEND;TZID=Europe/Helsinki:20260302T190000
DTSTAMP:20260423T111719
CREATED:20260226T080127Z
LAST-MODIFIED:20260226T080329Z
UID:3612-1772470800-1772478000@szerencs.hu
SUMMARY:Író-olvasó találkozó
DESCRIPTION:Szerencsi Művelődési Központ és Könyvtár\nszeretettel várja az érdeklődőket\nMi a nők szuperereje?\nelőadásra\n2026. március 2-án\, hétfőn 17 órától\nRákóczi-vár színháztermébe.\nVendégünk: Rácz Zsuzsa író\, újságíró
URL:https://szerencs.hu/esemenyek/iro-olvaso-talalkozo/
LOCATION:Rákóczi-vár színházterem
CATEGORIES:Kulturális program
ATTACH;FMTTYPE=image/jpeg:https://szerencs.hu/wp-content/uploads/2026/02/racz_zsuzsa_banner2.jpg
END:VEVENT
BEGIN:VEVENT
DTSTART;TZID=Europe/Helsinki:20260310T180000
DTEND;TZID=Europe/Helsinki:20260310T200000
DTSTAMP:20260423T111719
CREATED:20260226T074545Z
LAST-MODIFIED:20260226T074545Z
UID:3608-1773165600-1773172800@szerencs.hu
SUMMARY:Városi Nőnap
DESCRIPTION:Szerencs Város Önkormányzata\, valamint a Szerencsi Művelődési Központ és Könyvtár\nszeretettel várja\nSzerencs és Ond lányait\, asszonyait a\nVÁROSI NŐNAP\nprogramjára\n2026. március 10-én\, kedden 18 órától\nRákóczi-vár színháztermébe.\nKöszöntőt mond: Kiss Attila polgármester\nAjándékműsor: László Attila énekes\nA belépés díjtalan.
URL:https://szerencs.hu/esemenyek/varosi-nonap/
LOCATION:Rákóczi-vár színházterem
CATEGORIES:Városi ünnepség
ATTACH;FMTTYPE=image/jpeg:https://szerencs.hu/wp-content/uploads/2026/02/nonap_banner.jpg
END:VEVENT
BEGIN:VEVENT
DTSTART;TZID=Europe/Helsinki:20260312T140000
DTEND;TZID=Europe/Helsinki:20260312T170000
DTSTAMP:20260423T111719
CREATED:20260304T144524Z
LAST-MODIFIED:20260304T144524Z
UID:4037-1773324000-1773334800@szerencs.hu
SUMMARY:Meghívó a Cukorgyári emlékpark és az új állandó kiállítás megnyitójára
DESCRIPTION:Szerencs Város Önkormányzata tisztelettel vár minden érdeklődőt az ünnepélyes megnyitóra.\nIdőpont: 2026. március 12. (csütörtök)\, 14.00 óra.\nHelyszín: Turisztikai Központ (3900 Szerencs\, Rákóczi út 121.).\nProgram: Az esemény a Cukorgyári emlékpark hivatalos felavatásával kezdődik\, majd a Turisztikai Központban a Zempléni Múzeum új állandó tárlatának megnyitójával folytatódik. \nRészletes tartalom
URL:https://szerencs.hu/esemenyek/meghivo-a-cukorgyari-emlekpark-es-az-uj-allando-kiallitas-megnyitojara/
CATEGORIES:Városi ünnepség
ATTACH;FMTTYPE=image/jpeg:https://szerencs.hu/wp-content/uploads/2026/03/cukorgyar_meghivo_1600x700.jpg
END:VEVENT
BEGIN:VEVENT
DTSTART;TZID=Europe/Helsinki:20260313T080000
DTEND;TZID=Europe/Helsinki:20260314T170000
DTSTAMP:20260423T111719
CREATED:20260310T162620Z
LAST-MODIFIED:20260310T162744Z
UID:4433-1773388800-1773507600@szerencs.hu
SUMMARY:Meghívó március 15-i városi ünnepségre
DESCRIPTION:Szerencs Város Önkormányzata tisztelettel hívja és várja az érdeklődőket\naz 1848/49-es forradalom és szabadságharc kezdetének\n178. évfordulója alkalmából szervezett\nmegemlékezésekre\, koszorúzásokra Szerencsen és Ondon. \n2026. MÁRCIUS 13. (PÉNTEK)\n8:00 KOSSUTH LAJOS SZOBRA – Bocskai István Katolikus Gimnázium\, Technikum\, Általános Iskola és Óvoda (Kossuth utca-Béke utca kereszteződése)\n9:30 SZÉCHENYI ISTVÁN SZOBRA – Bocskai István Katolikus Gimnázium\, Technikum\, Általános Iskola és Óvoda Bolyai János Tagiskolája (Késmárk utca–Széchenyi utca kereszteződése)\n11:00 PETŐFI SÁNDOR EMLÉKTÁBLÁJA – SzSzC Műszaki és Szolgáltatási Technikum és Szakképző Iskola (Rákóczi út 79. szám)\n15:30 MEGEMLÉKEZÉS ÉS KOSZORÚZÁS ONDON – az 1848/49-es emlékműnél\nÜnnepi beszéd: Kiss Attila polgármester\nKözreműködnek: Bocskai István Katolikus Gimnázium\, Technikum\, Általános Iskola és Óvoda Bolyai János Tagiskolája \n2026. MÁRCIUS 14. SZOMBAT\n14:00 KOSZORÚZÁS AZ 1848-AS EMLÉKMŰNÉL – Szerencsen a Kossuth téren\nKözreműködik: Szerencsi Férfikar. Karnagy: Gebri József\n15:00 ÜNNEPI MEGEMLÉKEZÉS – a Rákóczi-vár színháztermében\nKöszöntőt mond: Kiss Attila polgármester\nÜnnepi beszédet mond: dr. Koncz Zsófia családokért felelős államtitkár\, országgyűlési képviselő\nÜnnepi műsor: Rákóczi Zsigmond Református Két Tanítási Nyelvű Általános Iskola\, Alapfokú Művészeti Iskola és Óvoda
URL:https://szerencs.hu/esemenyek/meghivo-marcius-15-i-varosi-unnepsegre/
CATEGORIES:Városi ünnepség
ATTACH;FMTTYPE=image/jpeg:https://szerencs.hu/wp-content/uploads/2026/03/20260315_marcius15.jpg
END:VEVENT
BEGIN:VEVENT
DTSTART;TZID=Europe/Helsinki:20260314T183000
DTEND;TZID=Europe/Helsinki:20260314T233000
DTSTAMP:20260423T111719
CREATED:20260302T182244Z
LAST-MODIFIED:20260302T182248Z
UID:3787-1773513000-1773531000@szerencs.hu
SUMMARY:Szezonnyitó rockbuli
DESCRIPTION:Kedves (hamarosan) Ünneplő Közönség!\nArra a felismerésre jutottunk\, hogy mivel itt a tavasz\, meg amúgy is ünnep lesz március 15-én\, akkor előző este lehetne egy jó kis szezonnyitó rockbuli a várban. Na\, mit szóltok hozzá???
URL:https://szerencs.hu/esemenyek/szezonnyito-rockbuli/
LOCATION:Rákczi-vár lovagterem
CATEGORIES:Kulturális program
ATTACH;FMTTYPE=image/jpeg:https://szerencs.hu/wp-content/uploads/2026/03/20260314_szezonnyito_banner_1600x700.jpg
END:VEVENT
BEGIN:VEVENT
DTSTART;TZID=Europe/Helsinki:20260327T090000
DTEND;TZID=Europe/Helsinki:20260327T100000
DTSTAMP:20260423T111719
CREATED:20260320T083538Z
LAST-MODIFIED:20260320T083734Z
UID:4718-1774602000-1774605600@szerencs.hu
SUMMARY:II. Rákóczi Ferencre emlékezünk
DESCRIPTION:MEGHÍVÓ\nSzerencs Város Önkormányzata\, a Szerencsi Művelődési Központ és Könyvtár\, valamint a Zempléni Múzeum\ntisztelettel hívja és várja az érdeklődőket\n2026. március 27-én\, pénteken 9 órától\nII. Rákóczi Ferenc fejedelem születésének 350. évfordulója alkalmából\nszervezett megemlékezésre és koszorúzásra\na fejedelem szobrához (Rákóczi út–Darvas László utca kereszteződése). \nMűsort adnak a Rákóczi Zsigmond Református Két Tanítási Nyelvű Általános Iskola\, Alapfokú Művészeti Iskola és Óvoda diákjai.\nA megemlékezést követően hivatalosan megnyílik a „Rákócziak – Egy nagy dinasztia születése” című múzeumi kiállítás harmadik terme\, ahol a látogatók megtekinthetik Rákóczi Zsigmond koponyájának másolatát és az ahhoz készült arcrekonstrukciót is.
URL:https://szerencs.hu/esemenyek/ii-rakoczi-ferencre-emlekezunk/
CATEGORIES:Kulturális program
ATTACH;FMTTYPE=image/jpeg:https://szerencs.hu/wp-content/uploads/2026/03/20260327_Rakoczi_emleknap_1600x700.jpg
END:VEVENT
BEGIN:VEVENT
DTSTART;VALUE=DATE:20260328
DTEND;VALUE=DATE:20260329
DTSTAMP:20260423T111719
CREATED:20260325T082303Z
LAST-MODIFIED:20260325T082501Z
UID:4755-1774656000-1774742399@szerencs.hu
SUMMARY:Tavaszköszöntő Családi nap
DESCRIPTION:A tavasz legvidámabb családi eseményére készül Szerencs városa: 2026. március 28-án megrendezésre kerül a Tavaszköszöntő Családi Nap és Pumpapálya-átadó\, a Tatay Zoltán Sporttelepen\, ahol kicsik és nagyok egyaránt felejthetetlen élményekkel gazdagodhatnak. A színes programkavalkád már délelőtt 11 órakor kezdetét veszi\, és egészen estig tartó kikapcsolódást kínál minden generáció számára. \nA nap egyik legizgalmasabb eseménye a Pumparty\, az új pumpapálya ünnepélyes megnyitója\, amelyhez látványos és aktív programok társulnak. A résztvevőket profi bringások várják egész nap\, akik gyakorlati tippekkel\, trükkökkel és hasznos tanácsokkal segítik az érdeklődőket. A sportos hangulatot tovább fokozza a Bringás Csokikupa verseny\, valamint a BMX-bemutatók\, triál- és pumpapálya show-k\, sőt BMX Flatland és street tánc produkciók is színesítik a kínálatot. A zenei élményekről Curtis koncertje és Dj Breda Bia gondoskodik\, garantálva a jó hangulatot.\nA kreatív kikapcsolódás kedvelői sem maradnak program nélkül: a kézműves foglalkozások során lehetőség nyílik gördeszka festésére\, farmer és cipő egyedi díszítésére\, valamint kulcstartók és telefontartók készítésére újrahasznosított anyagokból. A graffiti falfestés is kipróbálható lesz\, ahol sablonok segítségével bárki megalkothatja saját mintáját.\nA délutáni órákban a hagyományok és a zene kerülnek előtérbe. 14 órától néptánc bemutatók és táncház várja az érdeklődőket\, majd színpadra lép Csík János és a Mezzo zenekar\, valamint Radics Gigi is koncerttel szórakoztatja a közönséget.\nA programkínálat tovább bővül olyan különleges elemekkel\, amelyek még inkább erősítik a közösségi élményt és a helyi értékek bemutatását\, hiszen a rendezvény egyik kiemelt kiegészítő eseménye a helyi ízek főzőversenye\, ahol a települések főzőcsapatai saját receptúráikat mérhetik össze. A bográcsokban rotyogó ételek nemcsak az ízlelőbimbókat kényeztetik\, hanem igazi találkozási pontot is jelentenek\, ahol a hagyományos receptek és települési titkok generációról generációra öröklődnek. A látogatók betekintést nyerhetnek az ételek elkészítésének folyamatába\, és megérezhetik a hamisítatlan\, házias ízek varázsát.\nSzintén hangsúlyos szerepet kapnak a helyi mesterségek bemutatói\, amelyek révén a résztvevők közelebb kerülhetnek a térség kézműves hagyományaihoz. A mesterek élőben mutatják be tudásukat\, miközben az érdeklődők nemcsak megfigyelői\, hanem akár aktív résztvevői is lehetnek az alkotó folyamatnak. Ezek a programok nemcsak szórakoztatóak\, hanem értékes betekintést nyújtanak a múlt mesterségeibe\, erősítve a helyi identitást és a hagyományok tiszteletét.\nA rendezvény egész ideje alatt számos kísérő program biztosítja a felhőtlen kikapcsolódást: népi játékok\, nemezelés\, szappanfestés\, gyöngyfűzés\, makramé és babzsák készítés\, levendulás kézműveskedés\, csokiszökőkút\, lovaskocsizás\, ugrálóvár\, hajfonás és arcfestés várja a látogatókat. A gasztronómiai élményekről gasztrobusz és BBQ malacsütés gondoskodik.\nA Tavaszi Családi Nap és Pumpapálya-átadó nemcsak egy ingyenes esemény\, hanem egy igazi közösségi élmény\, ahol a sport\, a kultúra és a szórakozás találkozik. Érdemes az egész családdal kilátogatni\, és együtt ünnepelni a tavasz érkezését egy élményekkel teli napon.
URL:https://szerencs.hu/esemenyek/tavaszkoszonto-csaladi-nap/
CATEGORIES:Városi rendezvény
ATTACH;FMTTYPE=image/jpeg:https://szerencs.hu/wp-content/uploads/2026/03/tavaszkoszonto_1600x700.jpg
END:VEVENT
END:VCALENDAR